BEGIN:VCALENDAR
VERSION:2.0
PRODID:-//The Back Alley - ECPv6.15.0.1//NONSGML v1.0//EN
CALSCALE:GREGORIAN
METHOD:PUBLISH
X-WR-CALNAME:The Back Alley
X-ORIGINAL-URL:https://www.backalley.fi
X-WR-CALDESC:Tapahtumat The Back Alley
REFRESH-INTERVAL;VALUE=DURATION:PT1H
X-Robots-Tag:noindex
X-PUBLISHED-TTL:PT1H
BEGIN:VTIMEZONE
TZID:Europe/Helsinki
BEGIN:DAYLIGHT
TZOFFSETFROM:+0200
TZOFFSETTO:+0300
TZNAME:EEST
DTSTART:20260329T010000
END:DAYLIGHT
BEGIN:STANDARD
TZOFFSETFROM:+0300
TZOFFSETTO:+0200
TZNAME:EET
DTSTART:20261025T010000
END:STANDARD
END:VTIMEZONE
BEGIN:VEVENT
DTSTART;TZID=Europe/Helsinki:20260418T140000
DTEND;TZID=Europe/Helsinki:20260418T170000
DTSTAMP:20260420T111311
CREATED:20260409T105124Z
LAST-MODIFIED:20260409T105125Z
UID:10006271-1776520800-1776531600@www.backalley.fi
SUMMARY:Airsoft Academy (10-14v.)
DESCRIPTION:Tällä viikolla Academy – pelit poikkeuksellisesti lauantaina! \n  \nTehoraja 1 joule. \nOhjatut viikkopelit 10-14 vuotiaille. Sopii niin aloittelijoille\, kuin kokeneillekin pelaajille. Ennakkoilmoittautuminen pakollista. \nLuethan ilmoittautumisvahvistuksen ajatuksella läpi\, jos tulet ensimmäistä kertaa pelaamaan!
URL:https://www.backalley.fi/tapahtumat/airsoft-academy-10-14v-2-2/
LOCATION:Vetokuja 4\, 01610 Vantaa\, Vetokuja 4\, Vantaa\, 01610\, Suomi
CATEGORIES:Airsoft Academy
END:VEVENT
BEGIN:VEVENT
DTSTART;TZID=Europe/Helsinki:20260418T180000
DTEND;TZID=Europe/Helsinki:20260418T210000
DTSTAMP:20260420T111311
CREATED:20250705T211753Z
LAST-MODIFIED:20250705T211754Z
UID:10005453-1776535200-1776546000@www.backalley.fi
SUMMARY:K18 Setämieskerho
DESCRIPTION:Tehoraja 1.2 joulea. \nEnsikertaa Setämieskerhoon saapuvat: Tulkaa paikalle viimeistään 10min. ennen pelien alkua! Setämieskerhon pelimuodot ovat pitkiä ja ensikertalaisen on vaikea hypätä lennosta mukaan. \nPelivuoro 18 vuotta täyttäneille ja sitä vanhemmille pelaajille. Setämieskerhossa keskitytään taktisiin pelimuotoihin jotka vaativat rautaisia hermoja ja saumatonta tiimityötä. \nSetämieskerhossa on voimassa seuraavat\, yleisistä säännöistä poikkeavat säännöt: \n\nTehoraja 1.2 joulea\nKaikissa pelimuodoissa joukkue-respawnit\n\nLuethan ilmoittautumisvahvistuksen ajatuksella läpi\, jos tulet ensimmäistä kertaa pelaamaan!
URL:https://www.backalley.fi/tapahtumat/k18-setamieskerho-3-2021-06-12-2024-09-14-10-4-3/2026-04-18/
LOCATION:Vetokuja 4\, 01610 Vantaa\, Vetokuja 4\, Vantaa\, 01610\, Suomi
CATEGORIES:K18
END:VEVENT
END:VCALENDAR